BEGIN:VCALENDAR
VERSION:2.0
PRODID:-//ReMuS - ECPv6.15.19//NONSGML v1.0//EN
CALSCALE:GREGORIAN
METHOD:PUBLISH
X-WR-CALNAME:ReMuS
X-ORIGINAL-URL:https://www.multiplesclerosis.cz
X-WR-CALDESC:Akce na ReMuS
REFRESH-INTERVAL;VALUE=DURATION:PT1H
X-Robots-Tag:noindex
X-PUBLISHED-TTL:PT1H
BEGIN:VTIMEZONE
TZID:Europe/Prague
BEGIN:DAYLIGHT
TZOFFSETFROM:+0100
TZOFFSETTO:+0200
TZNAME:CEST
DTSTART:20240331T010000
END:DAYLIGHT
BEGIN:STANDARD
TZOFFSETFROM:+0200
TZOFFSETTO:+0100
TZNAME:CET
DTSTART:20241027T010000
END:STANDARD
BEGIN:DAYLIGHT
TZOFFSETFROM:+0100
TZOFFSETTO:+0200
TZNAME:CEST
DTSTART:20250330T010000
END:DAYLIGHT
BEGIN:STANDARD
TZOFFSETFROM:+0200
TZOFFSETTO:+0100
TZNAME:CET
DTSTART:20251026T010000
END:STANDARD
BEGIN:DAYLIGHT
TZOFFSETFROM:+0100
TZOFFSETTO:+0200
TZNAME:CEST
DTSTART:20260329T010000
END:DAYLIGHT
BEGIN:STANDARD
TZOFFSETFROM:+0200
TZOFFSETTO:+0100
TZNAME:CET
DTSTART:20261025T010000
END:STANDARD
END:VTIMEZONE
BEGIN:VEVENT
DTSTART;VALUE=DATE:20251010
DTEND;VALUE=DATE:20251013
DTSTAMP:20260421T140145
CREATED:20250821T153610Z
LAST-MODIFIED:20260420T163508Z
UID:10000095-1760054400-1760313599@www.multiplesclerosis.cz
SUMMARY:Potkalo se tělo s duší
DESCRIPTION:Projekt Potkalo se tělo s duší\, pořádaný pod vedením zkušených terapeutů MS Centra při NK 1. LF UK a VFN v Praze a za podpory NF IMPULS\, nabízí lidem s roztroušenou sklerózou jedinečnou možnost propojit péči o tělo i duši prostřednictvím třídenních komunitních pobytů. V malých skupinách účastníci pracují s pohybovými a psychoterapeutickými technikami\, arteterapií\, muzikoterapií\, taneční terapií i fyzickou rehabilitací. Program pomáhá pacientům lépe porozumět vlastnímu tělu\, posílit schopnost zvládat projevy nemoci\, nastartovat zdravý životní styl a aktivně podpořit účinnost léčby. \nVíce informací o projektu naleznete na webu Nadačního fondu IMPULS: https://www.nfimpuls.cz/potkalo-se-telo-s-dusi
URL:https://www.multiplesclerosis.cz/konkretni-udalost/potkalo-se-telo-s-dusi/
LOCATION:Moninec\, 257 91 Sedlec-Prčice-Sedlec-Prčice 1\, Česko
END:VEVENT
BEGIN:VEVENT
DTSTART;VALUE=DATE:20251023
DTEND;VALUE=DATE:20251025
DTSTAMP:20260421T140145
CREATED:20250907T124339Z
LAST-MODIFIED:20260420T163509Z
UID:10000104-1761177600-1761350399@www.multiplesclerosis.cz
SUMMARY:4. česká neurologická akademie
DESCRIPTION:Zveme vás na Českou neurologickou akademii – oficiální akci České neurologické společnosti pod garancí Výboru ČNS a prof. Marušiče\, která se uskuteční 23.–24. října v Parkhotelu Congress Center Plzeň. Čeká vás kompaktní edukační program zvaných odborníků se zaměřením na spinální neurologii\, cévní mozkové příhody\, neurogenetiku\, neuroonkologii a neurokognitivní onemocnění.   \nhttps://www.neuakademie.cz/ \nRegistrovat se můžete ZDE
URL:https://www.multiplesclerosis.cz/konkretni-udalost/4-ceska-neurologicka-akademie/
LOCATION:Plzeň\, Česko
END:VEVENT
END:VCALENDAR